View In:
ArcGIS JavaScript
ArcGIS Online Map Viewer
ArcGIS Earth
ArcGIS Pro
Service Description: <div style='text-align:Left;font-size:12pt'><div><div><p><span>Annexation records for the City of Worthington, Ohio. Annexation records include year annexed, adoption date, referenced ordinance/resolution, and links to documentation. </span></p><p><span /></p><p><span>Last updated 11/19/2024.</span></p></div></div></div>
Map Name: Annexations Pro
Legend
All Layers and Tables
Dynamic Legend
Dynamic All Layers
Layers:
Description: Annexation records for the City of Worthington, Ohio. Annexation records include year annexed, adoption date, referenced ordinance/resolution, and links to documentation. Last updated 11/19/2024.
Service Item Id: b8126aafcbd34b6e9cf0b0be074ccb3b
Copyright Text: City of Worthington
Spatial Reference:
102100
(3857)
LatestVCSWkid(0)
Single Fused Map Cache: true
Tile Info:
- Height: 256.0
- Width: 256.0
- DPI: 96.0
-
Levels of Detail: 24
-
Level ID: 1
[ Start Tile, End Tile ]
- Resolution: 78271.5169639999
- Scale: 2.95828763795777E8
-
Level ID: 2
[ Start Tile, End Tile ]
- Resolution: 39135.7584820001
- Scale: 1.47914381897889E8
-
Level ID: 3
[ Start Tile, End Tile ]
- Resolution: 19567.8792409999
- Scale: 7.3957190948944E7
-
Level ID: 4
[ Start Tile, End Tile ]
- Resolution: 9783.93962049996
- Scale: 3.6978595474472E7
-
Level ID: 5
[ Start Tile, End Tile ]
- Resolution: 4891.96981024998
- Scale: 1.8489297737236E7
- Format: PNG
- Compression Quality: 0.0
- Origin: X: -2.0037508342787E7
Y: 2.0037508342787E7
- Spatial Reference: 102100
(3857)
LatestVCSWkid(0)
Storage Info:
- Storage Format: esriMapCacheStorageModeCompactV2
- Packet Size: 128
Initial Extent:
XMin: -9247038.271097345
YMin: 4876399.485334005
XMax: -9237581.602849798
YMax: 4883031.434494622
Spatial Reference: 102100
(0)
LatestVCSWkid(0)
Full Extent:
XMin: -9246548.110060012
YMin: 4876342.115189196
XMax: -9238549.493061068
YMax: 4883380.941318244
Spatial Reference: 102100
(0)
LatestVCSWkid(0)
Units: esriMeters
Supported Image Format Types: PNG32,PNG24,PNG,JPG,DIB,TIFF,EMF,PS,PDF,GIF,SVG,SVGZ,BMP
Document Info:
Title: Untitled.aprx
Author:
Comments:
Subject:
Category:
Keywords: Annexation,Annex,Worthington,Transfer,Ordinance,boundary,corp limit,City of Worthington
AntialiasingMode: Fast
TextAntialiasingMode: Force
Supports Dynamic Layers: true
Resampling: false
MaxRecordCount: 2000
MaxSelectionCount: 2000
MaxImageHeight: 4096
MaxImageWidth: 4096
Supported Query Formats: JSON, geoJSON, PBF
Supports Query Data Elements: true
Min Scale: 144447.638572
Max Scale: 141.062147
Min LOD: 12
Max LOD: 22
Supports Datum Transformation: true
Child Resources:
Info
Dynamic Layer
Supported Operations:
Export Map
Identify
QueryLegends
QueryDomains
Find
Return Updates