View In:
ArcGIS JavaScript
ArcGIS Online Map Viewer
ArcGIS Earth
ArcGIS Pro
Service Description: <DIV STYLE="text-align:Left;font-size:12pt"><DIV><DIV><P><SPAN>Elevation contours 2ft spacing categorized as index or intermediate contour lines. The dataset was sourced from the Franklin County Auditor's reference data and clipped to the Worthington region. The source data was extrapolated from 2019 OGRIP Aerial Imagery by the Franklin County Auditor's Office. </SPAN></P></DIV></DIV></DIV>
Map Name: Contours
Legend
All Layers and Tables
Dynamic Legend
Dynamic All Layers
Layers:
Description: Elevation contours 2ft spacing categorized as index or intermediate contour lines. The dataset was sourced from the Franklin County Auditor's reference data and clipped to the Worthington region. The source data was extrapolated from 2019 OGRIP Aerial Imagery by the Franklin County Auditor's Office.
Service Item Id: c45f391ffaf84d469133aa80c9574148
Copyright Text: Franklin County Auditor
Spatial Reference:
102100
(3857)
LatestVCSWkid(0)
Single Fused Map Cache: true
Tile Info:
- Height: 256.0
- Width: 256.0
- DPI: 96.0
-
Levels of Detail: 24
-
Level ID: 0
[ Start Tile, End Tile ]
- Resolution: 156543.03392800014
- Scale: 5.91657527591555E8
-
Level ID: 1
[ Start Tile, End Tile ]
- Resolution: 78271.51696399994
- Scale: 2.95828763795777E8
-
Level ID: 2
[ Start Tile, End Tile ]
- Resolution: 39135.75848200009
- Scale: 1.47914381897889E8
-
Level ID: 3
[ Start Tile, End Tile ]
- Resolution: 19567.87924099992
- Scale: 7.3957190948944E7
-
Level ID: 4
[ Start Tile, End Tile ]
- Resolution: 9783.93962049996
- Scale: 3.6978595474472E7
-
Level ID: 5
[ Start Tile, End Tile ]
- Resolution: 4891.96981024998
- Scale: 1.8489297737236E7
- Format: PNG
- Compression Quality: 0.0
- Origin: X: -2.0037508342787E7
Y: 2.0037508342787E7
- Spatial Reference: 102100
(3857)
LatestVCSWkid(0)
Storage Info:
- Storage Format: esriMapCacheStorageModeCompactV2
- Packet Size: 128
Initial Extent:
XMin: -9247732.677234542
YMin: 4876153.751790484
XMax: -9237364.820778217
YMax: 4883569.044083243
Spatial Reference: 102100
(0)
LatestVCSWkid(0)
Full Extent:
XMin: -9246548.00536269
YMin: 4876342.858619141
XMax: -9238549.49265007
YMax: 4883379.937254585
Spatial Reference: 102100
(0)
LatestVCSWkid(0)
Units: esriMeters
Supported Image Format Types: PNG32,PNG24,PNG,JPG,DIB,TIFF,EMF,PS,PDF,GIF,SVG,SVGZ,BMP
Document Info:
Title: Contour
Author:
Comments: Elevation contours 2ft spacing categorized as index or intermediate contour lines. The dataset was sourced from the Franklin County Auditor's reference data and clipped to the Worthington region. The source data was extrapolated from 2019 OGRIP Aerial Imagery by the Franklin County Auditor's Office.
Subject: Elevation contours clipped to Worthington region.
Category:
Keywords: contour,elevation,topo,topography,Worthington,Franklin,Auditor
AntialiasingMode: Fast
TextAntialiasingMode: Force
Supports Dynamic Layers: true
Resampling: false
MaxRecordCount: 2000
MaxSelectionCount: 2000
MaxImageHeight: 4096
MaxImageWidth: 4096
Supported Query Formats: JSON, geoJSON, PBF
Supports Query Data Elements: true
Min Scale: 18055.954822
Max Scale: 141.062147
Min LOD: 15
Max LOD: 20
Supports Datum Transformation: true
Child Resources:
Info
Dynamic Layer
Supported Operations:
Export Map
Identify
QueryLegends
QueryDomains
Find
EstimateExportTilesSize
ExportTiles
Return Updates